BEGIN:VCALENDAR
VERSION:2.0
PRODID:-//Magnify Church - ECPv6.15.18//NONSGML v1.0//EN
CALSCALE:GREGORIAN
METHOD:PUBLISH
X-ORIGINAL-URL:https://magnifychurch.org
X-WR-CALDESC:Events for Magnify Church
REFRESH-INTERVAL;VALUE=DURATION:PT1H
X-Robots-Tag:noindex
X-PUBLISHED-TTL:PT1H
BEGIN:VTIMEZONE
TZID:America/Detroit
BEGIN:DAYLIGHT
TZOFFSETFROM:-0500
TZOFFSETTO:-0400
TZNAME:EDT
DTSTART:20250309T070000
END:DAYLIGHT
BEGIN:STANDARD
TZOFFSETFROM:-0400
TZOFFSETTO:-0500
TZNAME:EST
DTSTART:20251102T060000
END:STANDARD
BEGIN:DAYLIGHT
TZOFFSETFROM:-0500
TZOFFSETTO:-0400
TZNAME:EDT
DTSTART:20260308T070000
END:DAYLIGHT
BEGIN:STANDARD
TZOFFSETFROM:-0400
TZOFFSETTO:-0500
TZNAME:EST
DTSTART:20261101T060000
END:STANDARD
BEGIN:DAYLIGHT
TZOFFSETFROM:-0500
TZOFFSETTO:-0400
TZNAME:EDT
DTSTART:20270314T070000
END:DAYLIGHT
BEGIN:STANDARD
TZOFFSETFROM:-0400
TZOFFSETTO:-0500
TZNAME:EST
DTSTART:20271107T060000
END:STANDARD
END:VTIMEZONE
BEGIN:VEVENT
DTSTART;TZID=America/Detroit:20260429T180000
DTEND;TZID=America/Detroit:20260429T200000
DTSTAMP:20260425T122009
CREATED:20260105T174115Z
LAST-MODIFIED:20260424T141626Z
UID:10000792-1777485600-1777492800@magnifychurch.org
SUMMARY:Wednesday Nights at Northview
DESCRIPTION:Wednesday Nights at Magnify Northview are all about community\, growth\, and family. Join us weekly for adult classes\, student\, and kids programming. \n\n6-8pm\, Students Grades 7-12\n6:15pm Childcare (Birth-Preschool) check-in begins\n6:30-8pm Kids K-6: Treasure Seekers and Sons of the Shepherd\n6:30-8pm Men’s and Women’s Studies\n\nSpecial Programming Nights \n\nMen’s Final Week – May 29\nWomen’s Final Week – May 20\nKids and Students Final Week – May 27\n\nStudents 7-12 Grade\nLive radically different because of Jesus. That’s our vision for students at Magnify. We have crazy fun\, dive deep into the life-changing words of the Bible\, let loose with loud worship\, grow together in small groups and go on some awesome trips. Join us Wednesday nights to get connected and grow in your knowledge and love of Jesus.\nFor questions\, contact: Noah Anderson \nTreasure Seekers: Girls K-6\nTreasure Seekers is a program for Northview girls in Kindergarten through 6th Grade. Girls are divided by grade. This year K-4th Grade will be learning about women in the Bible and 5/6 Grade will be building on what they learn on Sunday mornings. Each night will include various crafts\, activities\, and memory verses!\nFor questions\, contact: Janet Hamilton \nSons of the Shepherd: Boys K-6\nWe are excited to introduce Sons of the Shepherd\, our new K-6th Grade Wednesday night program for our boys at Magnify Northview. Our goal is to lead boys to follow the Good Shepherd and be Gospel-centered in a self-centered world. We will be using the Gospel Project Curriculum for teaching and will divide according to age for discussion and certain activities!\nFor questions\, contact: John Carr \nWomen’s Ministry\nClick on the link for Women’s Bible Study options – see the Northview Tab.\nFor questions\, contact: Darcia Black  \nMen’s Ministry\nClick on the link for Men’s Bible Study options – see the Northview Tab.\nFor questions\, contact: Trent Heaton \nBirth – Preschool Childcare\nChildcare is available for Birth -Preschool for families taking classes Wednesday nights. Please pre-register so we can provide enough care for your littles: Childcare Registration
URL:https://magnifychurch.org/event/wednesday-nights-northview/
LOCATION:Northview Campus\, 4162 Hunsberger Ave NE\, Grand Rapids\, MI\, 49525\, United States
ATTACH;FMTTYPE=image/jpeg:https://magnifychurch.org/wp-content/uploads/2025/08/WednesdayNightsNV_WIDE.jpg
END:VEVENT
BEGIN:VEVENT
DTSTART;TZID=America/Detroit:20260502T090000
DTEND;TZID=America/Detroit:20260502T160000
DTSTAMP:20260425T122009
CREATED:20260407T142214Z
LAST-MODIFIED:20260421T125721Z
UID:10000932-1777712400-1777737600@magnifychurch.org
SUMMARY:Amazing Race Adventure - Northview
DESCRIPTION:Amazing race\, how sweet the sound… of energetic middle schoolers teaming up to solve problems\, crack codes\, and race and chase after a grand prize with friends!\nThis is a great event to reach out and invite your friends to come with you for the fun and to hear the gospel! Everything is better when you experience it together! \nWho: 5th-8th Grade Northview Students\nWhen: May 2\, 9am-4pm\nWhere: Magnify Northview\nCost: None\nContact: Kim Bronkema \nRegistration
URL:https://magnifychurch.org/event/amazing-race-adventure-northview/
LOCATION:Northview Campus\, 4162 Hunsberger Ave NE\, Grand Rapids\, MI\, 49525\, United States
ATTACH;FMTTYPE=image/jpeg:https://magnifychurch.org/wp-content/uploads/2026/04/2026-5-2_AmazingRaceAdventure_WIDE.jpg
END:VEVENT
BEGIN:VEVENT
DTSTART;VALUE=DATE:20260503
DTEND;VALUE=DATE:20260504
DTSTAMP:20260425T122009
CREATED:20250808T151043Z
LAST-MODIFIED:20260203T211047Z
UID:10000869-1777766400-1777852799@magnifychurch.org
SUMMARY:Family Connect - Northview
DESCRIPTION:Young families (with or without kids) are invited to join us following the first service for about 30 minutes in the Student Center to catch up with families you know\, and connect with families you haven’t yet met! This is a great space for kids to run around\, have fun and enjoy a light snack. No need to register! \nAlthough this is designed for young families\, If you are in a different stage of life\, for example\, a grandparent\, we would love for you to come too! What a great gift for the different generations to do life together! \nWho: Young families (with or without kids)\nWhen: The first Sunday of each month (except April due to Easter)\nWhere: Magnify Northview\, Student Center\nContact: Kristen Hinkle
URL:https://magnifychurch.org/event/family-connect-northview-4/2026-05-03/
LOCATION:Northview Campus\, 4162 Hunsberger Ave NE\, Grand Rapids\, MI\, 49525\, United States
ATTACH;FMTTYPE=image/jpeg:https://magnifychurch.org/wp-content/uploads/2024/04/2024-10-6_Family-Connect_WIDE.jpg
END:VEVENT
BEGIN:VEVENT
DTSTART;TZID=America/Detroit:20260503T100000
DTEND;TZID=America/Detroit:20260503T110000
DTSTAMP:20260425T122009
CREATED:20240403T163445Z
LAST-MODIFIED:20260408T180351Z
UID:10000021-1777802400-1777806000@magnifychurch.org
SUMMARY:Circle Up - Northview
DESCRIPTION:Circle Up will feature fun\, food\, and discovery. Hear a story about how Northview Shares is changing lives. Get answers to your questions. Discover how to receive and how to give. Can’t wait to see you on May 3rd! \nWho: Magnify Northview family\nWhen: May 3\, between services\nWhere: Magnify Northview\nCost: None\nBring: Easy to grab breakfast item\nContact: Kim Bronkema \n 
URL:https://magnifychurch.org/event/circle-up-northview/
LOCATION:Northview Campus\, 4162 Hunsberger Ave NE\, Grand Rapids\, MI\, 49525\, United States
ATTACH;FMTTYPE=image/jpeg:https://magnifychurch.org/wp-content/uploads/2024/04/2026-5-3_NV-Circle-Up_WIDE.jpg
END:VEVENT
BEGIN:VEVENT
DTSTART;VALUE=DATE:20260607
DTEND;VALUE=DATE:20260610
DTSTAMP:20260425T122009
CREATED:20240412T192611Z
LAST-MODIFIED:20260415T180054Z
UID:10000092-1780790400-1781049599@magnifychurch.org
SUMMARY:Kids Week (Volunteer Sign Ups) - Northview
DESCRIPTION:We are looking for weathered explorers who are eager to join our Jungle Crew and help in any way with our journey through the jungle! \nKids – your registration will open early May. Check back soon to sign up! \nWho: Weathered Explorer Volunteers\nWhen:  June 7-9\, 6-8:30pm\nWhere: Magnify Northview  (aka… the Jungle)\nContact: Kristen Hinkle or Bekah Hamilton \nRegistration Volunteer Sign Ups 
URL:https://magnifychurch.org/event/kids-week-northview/
LOCATION:Northview Campus\, 4162 Hunsberger Ave NE\, Grand Rapids\, MI\, 49525\, United States
ATTACH;FMTTYPE=image/jpeg:https://magnifychurch.org/wp-content/uploads/2024/04/2026-06-07-NV-Kids-Week_WIDE.jpg
END:VEVENT
END:VCALENDAR